BEGIN:VCALENDAR
VERSION:2.0
PRODID:-//Look Up Center - ECPv6.11.0.1//NONSGML v1.0//EN
CALSCALE:GREGORIAN
METHOD:PUBLISH
X-ORIGINAL-URL:https://lookupcenter.org
X-WR-CALDESC:Events for Look Up Center
REFRESH-INTERVAL;VALUE=DURATION:PT1H
X-Robots-Tag:noindex
X-PUBLISHED-TTL:PT1H
BEGIN:VTIMEZONE
TZID:UTC
BEGIN:STANDARD
TZOFFSETFROM:+0000
TZOFFSETTO:+0000
TZNAME:UTC
DTSTART:20220101T000000
END:STANDARD
END:VTIMEZONE
BEGIN:VEVENT
DTSTART;TZID=UTC:20220811T100000
DTEND;TZID=UTC:20220811T120000
DTSTAMP:20260422T141919
CREATED:20220726T182217Z
LAST-MODIFIED:20220726T182217Z
UID:10003184-1660212000-1660219200@lookupcenter.org
SUMMARY:Activity Day
DESCRIPTION:Join us for a fun back to school event.
URL:https://lookupcenter.org/event/activity-day-3/
LOCATION:OH
END:VEVENT
END:VCALENDAR