BEGIN:VCALENDAR
VERSION:2.0
PRODID:-//Look Up Center - ECPv6.11.0.1//NONSGML v1.0//EN
CALSCALE:GREGORIAN
METHOD:PUBLISH
X-WR-CALNAME:Look Up Center
X-ORIGINAL-URL:https://lookupcenter.org
X-WR-CALDESC:Events for Look Up Center
REFRESH-INTERVAL;VALUE=DURATION:PT1H
X-Robots-Tag:noindex
X-PUBLISHED-TTL:PT1H
BEGIN:VTIMEZONE
TZID:UTC
BEGIN:STANDARD
TZOFFSETFROM:+0000
TZOFFSETTO:+0000
TZNAME:UTC
DTSTART:20220101T000000
END:STANDARD
END:VTIMEZONE
BEGIN:VEVENT
DTSTART;TZID=UTC:20220913T090000
DTEND;TZID=UTC:20220913T120000
DTSTAMP:20260422T124751
CREATED:20220726T183942Z
LAST-MODIFIED:20220726T183942Z
UID:10003186-1663059600-1663070400@lookupcenter.org
SUMMARY:1st day of Glory Rising
DESCRIPTION:Kick off to our half day learning program begins! We are so excited to spend time with your children.
URL:https://lookupcenter.org/event/1st-day-of-glory-rising/
LOCATION:OH
END:VEVENT
END:VCALENDAR