BEGIN:VCALENDAR
VERSION:2.0
PRODID:-//Look Up Center - ECPv6.11.0.1//NONSGML v1.0//EN
CALSCALE:GREGORIAN
METHOD:PUBLISH
X-WR-CALNAME:Look Up Center
X-ORIGINAL-URL:https://lookupcenter.org
X-WR-CALDESC:Events for Look Up Center
REFRESH-INTERVAL;VALUE=DURATION:PT1H
X-Robots-Tag:noindex
X-PUBLISHED-TTL:PT1H
BEGIN:VTIMEZONE
TZID:UTC
BEGIN:STANDARD
TZOFFSETFROM:+0000
TZOFFSETTO:+0000
TZNAME:UTC
DTSTART:20220101T000000
END:STANDARD
END:VTIMEZONE
BEGIN:VEVENT
DTSTART;TZID=UTC:20221124T100000
DTEND;TZID=UTC:20221124T120000
DTSTAMP:20260422T111611
CREATED:20221108T014106Z
LAST-MODIFIED:20221108T014106Z
UID:10003190-1669284000-1669291200@lookupcenter.org
SUMMARY:Thanksgiving Meal Delivery
DESCRIPTION:If you or someone you know is in need of a Thanksgiving dinner please give us a call. We will deliver them on Thanksgiving morning between 10am-noon!
URL:https://lookupcenter.org/event/thanksgiving-meal-delivery/
LOCATION:OH
END:VEVENT
END:VCALENDAR