BEGIN:VCALENDAR
VERSION:2.0
PRODID:-//Look Up Center - ECPv6.11.0.1//NONSGML v1.0//EN
CALSCALE:GREGORIAN
METHOD:PUBLISH
X-WR-CALNAME:Look Up Center
X-ORIGINAL-URL:https://lookupcenter.org
X-WR-CALDESC:Events for Look Up Center
REFRESH-INTERVAL;VALUE=DURATION:PT1H
X-Robots-Tag:noindex
X-PUBLISHED-TTL:PT1H
BEGIN:VTIMEZONE
TZID:UTC
BEGIN:STANDARD
TZOFFSETFROM:+0000
TZOFFSETTO:+0000
TZNAME:UTC
DTSTART:20220101T000000
END:STANDARD
END:VTIMEZONE
BEGIN:VEVENT
DTSTART;TZID=UTC:20221204T173000
DTEND;TZID=UTC:20221204T193000
DTSTAMP:20260422T080041
CREATED:20221108T011248Z
LAST-MODIFIED:20221108T011248Z
UID:10003189-1670175000-1670182200@lookupcenter.org
SUMMARY:O'Holy Night 5k
DESCRIPTION:Mark your calendars for the 2nd annual Look Up Center 5K Pet friendly Fun Run/Walk. All proceeds benefit the Look Up Center to help meet needs in our community.  Bring your pet and enjoy a lighted walk through Bethlehem\, live nativity\, and music from The River Radio. Prizes will be awarded to the adult\, child\, and pet with the most Christmas spirit!  Enjoy a warm fire\, cookies\, and hot cocoa. \nTo register scan QR code or go to our home page and click donate/choose a campaign: O’Holy Night 5k 2022 \nPre-registration fee is $25 \n$30 day of event \n$100 Family rate \n12 and under free \nWe look forward to celebrating this special season with you!
URL:https://lookupcenter.org/event/oholy-night-5k/
LOCATION:OH
ATTACH;FMTTYPE=image/png:https://lookupcenter.org/wp-content/uploads/2022/11/qr-code.png
END:VEVENT
END:VCALENDAR