BEGIN:VCALENDAR
VERSION:2.0
PRODID:-//Look Up Center - ECPv6.11.0.1//NONSGML v1.0//EN
CALSCALE:GREGORIAN
METHOD:PUBLISH
X-WR-CALNAME:Look Up Center
X-ORIGINAL-URL:https://lookupcenter.org
X-WR-CALDESC:Events for Look Up Center
REFRESH-INTERVAL;VALUE=DURATION:PT1H
X-Robots-Tag:noindex
X-PUBLISHED-TTL:PT1H
BEGIN:VTIMEZONE
TZID:America/New_York
BEGIN:DAYLIGHT
TZOFFSETFROM:-0500
TZOFFSETTO:-0400
TZNAME:EDT
DTSTART:20250309T070000
END:DAYLIGHT
BEGIN:STANDARD
TZOFFSETFROM:-0400
TZOFFSETTO:-0500
TZNAME:EST
DTSTART:20251102T060000
END:STANDARD
END:VTIMEZONE
BEGIN:VTIMEZONE
TZID:UTC
BEGIN:STANDARD
TZOFFSETFROM:+0000
TZOFFSETTO:+0000
TZNAME:UTC
DTSTART:20250101T000000
END:STANDARD
END:VTIMEZONE
BEGIN:VEVENT
DTSTART;TZID=America/New_York:20250211T090000
DTEND;TZID=America/New_York:20250211T120000
DTSTAMP:20260421T053837
CREATED:20210727T142155Z
LAST-MODIFIED:20221111T205340Z
UID:10003572-1739264400-1739275200@lookupcenter.org
SUMMARY:Opportunity Store
DESCRIPTION:Come and shop at the Look Up Center every Tuesday from 9am-noon and 4pm-6pm! We have clothing\, furniture\, appliances\, household items and more!
URL:https://lookupcenter.org/event/opportunity-store/2025-02-11/
LOCATION:The Look Up Center\, 50 O'Bannon Ave\, Newark\, OH\, 43055\, United States
END:VEVENT
BEGIN:VEVENT
DTSTART;TZID=UTC:20250211T130000
DTEND;TZID=UTC:20250211T140000
DTSTAMP:20260421T053837
CREATED:20240613T170300Z
LAST-MODIFIED:20240613T170427Z
UID:10005179-1739278800-1739282400@lookupcenter.org
SUMMARY:Moms in Prayer
DESCRIPTION: 
URL:https://lookupcenter.org/event/moms-in-prayer-2/2025-02-11/
LOCATION:The Look Up Center\, 50 O'Bannon Ave\, Newark\, OH\, 43055\, United States
END:VEVENT
BEGIN:VEVENT
DTSTART;TZID=UTC:20250211T160000
DTEND;TZID=UTC:20250211T180000
DTSTAMP:20260421T053837
CREATED:20221111T204531Z
LAST-MODIFIED:20221111T205224Z
UID:10003833-1739289600-1739296800@lookupcenter.org
SUMMARY:Opportunity Store
DESCRIPTION:Come and shop at the Look Up Center every Tuesday from 9am-noon and 4pm-6pm! We have clothing\, furniture\, appliances\, household items and more!
URL:https://lookupcenter.org/event/opportunity-store-2/2025-02-11/
LOCATION:The Look Up Center\, 50 O'Bannon Ave\, Newark\, OH\, 43055\, United States
END:VEVENT
BEGIN:VEVENT
DTSTART;TZID=America/New_York:20250211T171500
DTEND;TZID=America/New_York:20250211T180000
DTSTAMP:20260421T053837
CREATED:20250210T145614Z
LAST-MODIFIED:20250210T145614Z
UID:10005752-1739294100-1739296800@lookupcenter.org
SUMMARY:Licking County Mobile Library
DESCRIPTION:Come visit the Licking County Mobile Library on the 2nd Tuesday of each month here at The Look Up Center!  \nAge Group: Early Learners | Birth-5\, Elementary | Grades K-5\, Teens | Grades 6-12\, Adults
URL:https://lookupcenter.org/event/licking-county-mobile-library/2025-02-11/
LOCATION:The Look Up Center\, 50 O'Bannon Ave\, Newark\, OH\, 43055\, United States
END:VEVENT
END:VCALENDAR