BEGIN:VCALENDAR
VERSION:2.0
PRODID:-//Look Up Center - ECPv6.11.0.1//NONSGML v1.0//EN
CALSCALE:GREGORIAN
METHOD:PUBLISH
X-ORIGINAL-URL:https://lookupcenter.org
X-WR-CALDESC:Events for Look Up Center
REFRESH-INTERVAL;VALUE=DURATION:PT1H
X-Robots-Tag:noindex
X-PUBLISHED-TTL:PT1H
BEGIN:VTIMEZONE
TZID:America/New_York
BEGIN:DAYLIGHT
TZOFFSETFROM:-0500
TZOFFSETTO:-0400
TZNAME:EDT
DTSTART:20250309T070000
END:DAYLIGHT
BEGIN:STANDARD
TZOFFSETFROM:-0400
TZOFFSETTO:-0500
TZNAME:EST
DTSTART:20251102T060000
END:STANDARD
END:VTIMEZONE
BEGIN:VTIMEZONE
TZID:UTC
BEGIN:STANDARD
TZOFFSETFROM:+0000
TZOFFSETTO:+0000
TZNAME:UTC
DTSTART:20250101T000000
END:STANDARD
END:VTIMEZONE
BEGIN:VEVENT
DTSTART;TZID=America/New_York:20250422T090000
DTEND;TZID=America/New_York:20250422T120000
DTSTAMP:20260419T232500
CREATED:20210727T142155Z
LAST-MODIFIED:20221111T205340Z
UID:10003582-1745312400-1745323200@lookupcenter.org
SUMMARY:Opportunity Store
DESCRIPTION:Come and shop at the Look Up Center every Tuesday from 9am-noon and 4pm-6pm! We have clothing\, furniture\, appliances\, household items and more!
URL:https://lookupcenter.org/event/opportunity-store/2025-04-22/
LOCATION:The Look Up Center\, 50 O'Bannon Ave\, Newark\, OH\, 43055\, United States
END:VEVENT
BEGIN:VEVENT
DTSTART;TZID=America/New_York:20250422T120000
DTEND;TZID=America/New_York:20250422T140000
DTSTAMP:20260419T232500
CREATED:20250416T135522Z
LAST-MODIFIED:20250416T135641Z
UID:10005823-1745323200-1745330400@lookupcenter.org
SUMMARY:Urgent Dental Clinic
DESCRIPTION:
URL:https://lookupcenter.org/event/urgent-dental-clinic-14/
LOCATION:The Look Up Center\, 50 O'Bannon Ave\, Newark\, OH\, 43055\, United States
END:VEVENT
BEGIN:VEVENT
DTSTART;TZID=UTC:20250422T160000
DTEND;TZID=UTC:20250422T180000
DTSTAMP:20260419T232500
CREATED:20221111T204531Z
LAST-MODIFIED:20221111T205224Z
UID:10003843-1745337600-1745344800@lookupcenter.org
SUMMARY:Opportunity Store
DESCRIPTION:Come and shop at the Look Up Center every Tuesday from 9am-noon and 4pm-6pm! We have clothing\, furniture\, appliances\, household items and more!
URL:https://lookupcenter.org/event/opportunity-store-2/2025-04-22/
LOCATION:The Look Up Center\, 50 O'Bannon Ave\, Newark\, OH\, 43055\, United States
END:VEVENT
END:VCALENDAR