BEGIN:VCALENDAR
VERSION:2.0
PRODID:-//Look Up Center - ECPv6.11.0.1//NONSGML v1.0//EN
CALSCALE:GREGORIAN
METHOD:PUBLISH
X-WR-CALNAME:Look Up Center
X-ORIGINAL-URL:https://lookupcenter.org
X-WR-CALDESC:Events for Look Up Center
REFRESH-INTERVAL;VALUE=DURATION:PT1H
X-Robots-Tag:noindex
X-PUBLISHED-TTL:PT1H
BEGIN:VTIMEZONE
TZID:America/New_York
BEGIN:DAYLIGHT
TZOFFSETFROM:-0500
TZOFFSETTO:-0400
TZNAME:EDT
DTSTART:20250309T070000
END:DAYLIGHT
BEGIN:STANDARD
TZOFFSETFROM:-0400
TZOFFSETTO:-0500
TZNAME:EST
DTSTART:20251102T060000
END:STANDARD
END:VTIMEZONE
BEGIN:VEVENT
DTSTART;TZID=America/New_York:20250505T090000
DTEND;TZID=America/New_York:20250505T120000
DTSTAMP:20260419T172251
CREATED:20250416T140105Z
LAST-MODIFIED:20250416T140105Z
UID:10005824-1746435600-1746446400@lookupcenter.org
SUMMARY:Urgent Dental Clinic
DESCRIPTION:Please call Pathways @211 to verify your eligibility for these free urgent dental clinics. They will also schedule your appointment!
URL:https://lookupcenter.org/event/urgent-dental-clinic-15/
LOCATION:The Look Up Center\, 50 O'Bannon Ave\, Newark\, OH\, 43055\, United States
ATTACH;FMTTYPE=image/png:https://lookupcenter.org/wp-content/uploads/2025/04/Dental-Clinic.png
END:VEVENT
END:VCALENDAR