BEGIN:VCALENDAR
VERSION:2.0
PRODID:-//Look Up Center - ECPv6.11.0.1//NONSGML v1.0//EN
CALSCALE:GREGORIAN
METHOD:PUBLISH
X-ORIGINAL-URL:https://lookupcenter.org
X-WR-CALDESC:Events for Look Up Center
REFRESH-INTERVAL;VALUE=DURATION:PT1H
X-Robots-Tag:noindex
X-PUBLISHED-TTL:PT1H
BEGIN:VTIMEZONE
TZID:America/New_York
BEGIN:DAYLIGHT
TZOFFSETFROM:-0500
TZOFFSETTO:-0400
TZNAME:EDT
DTSTART:20250309T070000
END:DAYLIGHT
BEGIN:STANDARD
TZOFFSETFROM:-0400
TZOFFSETTO:-0500
TZNAME:EST
DTSTART:20251102T060000
END:STANDARD
END:VTIMEZONE
BEGIN:VEVENT
DTSTART;TZID=America/New_York:20250725T090000
DTEND;TZID=America/New_York:20250725T120000
DTSTAMP:20260419T142917
CREATED:20250702T133402Z
LAST-MODIFIED:20250702T133402Z
UID:10006121-1753434000-1753444800@lookupcenter.org
SUMMARY:GYM SALE!!
DESCRIPTION:🛍️ HUGE GYM SALE – SO MANY ITEMS! 🛋️👗🧸 \nGet ready to shop till you drop!We’re clearing out tons of items at unbeatable prices! 🎉 \n🪑 Home Decor🧥 Clothing🏠 Housewares🛋️ Furniture🧸 Toys…and SO much more! \n💥 You won’t want to miss these deals!
URL:https://lookupcenter.org/event/gym-sale-2/2025-07-25/
LOCATION:The Look Up Center\, 50 O'Bannon Ave\, Newark\, OH\, 43055\, United States
END:VEVENT
END:VCALENDAR