BEGIN:VCALENDAR
VERSION:2.0
PRODID:-//Look Up Center - ECPv6.11.0.1//NONSGML v1.0//EN
CALSCALE:GREGORIAN
METHOD:PUBLISH
X-WR-CALNAME:Look Up Center
X-ORIGINAL-URL:https://lookupcenter.org
X-WR-CALDESC:Events for Look Up Center
REFRESH-INTERVAL;VALUE=DURATION:PT1H
X-Robots-Tag:noindex
X-PUBLISHED-TTL:PT1H
BEGIN:VTIMEZONE
TZID:America/New_York
BEGIN:DAYLIGHT
TZOFFSETFROM:-0500
TZOFFSETTO:-0400
TZNAME:EDT
DTSTART:20260308T070000
END:DAYLIGHT
BEGIN:STANDARD
TZOFFSETFROM:-0400
TZOFFSETTO:-0500
TZNAME:EST
DTSTART:20261101T060000
END:STANDARD
END:VTIMEZONE
BEGIN:VEVENT
DTSTART;TZID=America/New_York:20260423T170000
DTEND;TZID=America/New_York:20260423T200000
DTSTAMP:20260423T032636
CREATED:20260305T152522Z
LAST-MODIFIED:20260305T152522Z
UID:10006278-1776963600-1776974400@lookupcenter.org
SUMMARY:Caring with Quarters Auction!
DESCRIPTION:Our annual “Caring with Quarters” Auction is set for April 23\, 2026! This year\, this event is being held at The John Gilbert Reese Center! Join us for a fun and exciting way to win great prizes while supporting a great cause! Proceeds will benefit Licking County communities through various ministries and programs offered at the Look Up Center! Your general admission ticket covers the cost of your dinner provided by Rise Christian church. Vendors will have items available for purchase as well as items they will donate for the auction! Place your bids and experience the excitement of winning big ticket items with just your quarters!Follow the ticket link for more information on an special paddle option this year!DINNER IS SERVED FROM 5PM-6PM and the auction will start right at 6pm!\n***VENDOR INFO: If you are interested in being a vendor for this event\, please call us at Look Up Center at 740-345-6026.
URL:https://lookupcenter.org/event/caring-with-quarters-auction-2/
LOCATION:The John Gilbert Reese Center\, 1209 University Dr\, Newark\, OH\, 43055\, United States
ATTACH;FMTTYPE=image/jpeg:https://lookupcenter.org/wp-content/uploads/2026/03/APRIL-23-2026-Doors-open-at-5pm-1920-x-1080-px-3-copy.jpg
END:VEVENT
END:VCALENDAR