BEGIN:VCALENDAR
VERSION:2.0
PRODID:-//Look Up Center - ECPv6.11.0.1//NONSGML v1.0//EN
CALSCALE:GREGORIAN
METHOD:PUBLISH
X-ORIGINAL-URL:https://lookupcenter.org
X-WR-CALDESC:Events for Look Up Center
REFRESH-INTERVAL;VALUE=DURATION:PT1H
X-Robots-Tag:noindex
X-PUBLISHED-TTL:PT1H
BEGIN:VTIMEZONE
TZID:America/New_York
BEGIN:DAYLIGHT
TZOFFSETFROM:-0500
TZOFFSETTO:-0400
TZNAME:EDT
DTSTART:20270314T070000
END:DAYLIGHT
BEGIN:STANDARD
TZOFFSETFROM:-0400
TZOFFSETTO:-0500
TZNAME:EST
DTSTART:20271107T060000
END:STANDARD
END:VTIMEZONE
BEGIN:VEVENT
DTSTART;TZID=America/New_York:20271214T171500
DTEND;TZID=America/New_York:20271214T180000
DTSTAMP:20260425T074156
CREATED:20250210T145614Z
LAST-MODIFIED:20250210T145614Z
UID:10005786-1828804500-1828807200@lookupcenter.org
SUMMARY:Licking County Mobile Library
DESCRIPTION:Come visit the Licking County Mobile Library on the 2nd Tuesday of each month here at The Look Up Center!  \nAge Group: Early Learners | Birth-5\, Elementary | Grades K-5\, Teens | Grades 6-12\, Adults
URL:https://lookupcenter.org/event/licking-county-mobile-library/2027-12-14/
LOCATION:The Look Up Center\, 50 O'Bannon Ave\, Newark\, OH\, 43055\, United States
END:VEVENT
END:VCALENDAR