BEGIN:VCALENDAR
VERSION:2.0
PRODID:-//Look Up Center - ECPv6.11.0.1//NONSGML v1.0//EN
CALSCALE:GREGORIAN
METHOD:PUBLISH
X-ORIGINAL-URL:https://lookupcenter.org
X-WR-CALDESC:Events for Look Up Center
REFRESH-INTERVAL;VALUE=DURATION:PT1H
X-Robots-Tag:noindex
X-PUBLISHED-TTL:PT1H
BEGIN:VTIMEZONE
TZID:America/New_York
BEGIN:DAYLIGHT
TZOFFSETFROM:-0500
TZOFFSETTO:-0400
TZNAME:EDT
DTSTART:20270314T070000
END:DAYLIGHT
BEGIN:STANDARD
TZOFFSETFROM:-0400
TZOFFSETTO:-0500
TZNAME:EST
DTSTART:20271107T060000
END:STANDARD
END:VTIMEZONE
BEGIN:VTIMEZONE
TZID:UTC
BEGIN:STANDARD
TZOFFSETFROM:+0000
TZOFFSETTO:+0000
TZNAME:UTC
DTSTART:20270101T000000
END:STANDARD
END:VTIMEZONE
BEGIN:VEVENT
DTSTART;TZID=America/New_York:20270330T090000
DTEND;TZID=America/New_York:20270330T120000
DTSTAMP:20260424T194527
CREATED:20210727T142155Z
LAST-MODIFIED:20221111T205340Z
UID:10003683-1806397200-1806408000@lookupcenter.org
SUMMARY:Opportunity Store
DESCRIPTION:Come and shop at the Look Up Center every Tuesday from 9am-noon and 4pm-6pm! We have clothing\, furniture\, appliances\, household items and more!
URL:https://lookupcenter.org/event/opportunity-store/2027-03-30/
LOCATION:The Look Up Center\, 50 O'Bannon Ave\, Newark\, OH\, 43055\, United States
END:VEVENT
BEGIN:VEVENT
DTSTART;TZID=UTC:20270330T160000
DTEND;TZID=UTC:20270330T180000
DTSTAMP:20260424T194527
CREATED:20221111T204531Z
LAST-MODIFIED:20221111T205224Z
UID:10003944-1806422400-1806429600@lookupcenter.org
SUMMARY:Opportunity Store
DESCRIPTION:Come and shop at the Look Up Center every Tuesday from 9am-noon and 4pm-6pm! We have clothing\, furniture\, appliances\, household items and more!
URL:https://lookupcenter.org/event/opportunity-store-2/2027-03-30/
LOCATION:The Look Up Center\, 50 O'Bannon Ave\, Newark\, OH\, 43055\, United States
END:VEVENT
BEGIN:VEVENT
DTSTART;TZID=America/New_York:20270406T090000
DTEND;TZID=America/New_York:20270406T120000
DTSTAMP:20260424T194527
CREATED:20210727T142155Z
LAST-MODIFIED:20221111T205340Z
UID:10003684-1807002000-1807012800@lookupcenter.org
SUMMARY:Opportunity Store
DESCRIPTION:Come and shop at the Look Up Center every Tuesday from 9am-noon and 4pm-6pm! We have clothing\, furniture\, appliances\, household items and more!
URL:https://lookupcenter.org/event/opportunity-store/2027-04-06/
LOCATION:The Look Up Center\, 50 O'Bannon Ave\, Newark\, OH\, 43055\, United States
END:VEVENT
BEGIN:VEVENT
DTSTART;TZID=UTC:20270406T160000
DTEND;TZID=UTC:20270406T180000
DTSTAMP:20260424T194527
CREATED:20221111T204531Z
LAST-MODIFIED:20221111T205224Z
UID:10003945-1807027200-1807034400@lookupcenter.org
SUMMARY:Opportunity Store
DESCRIPTION:Come and shop at the Look Up Center every Tuesday from 9am-noon and 4pm-6pm! We have clothing\, furniture\, appliances\, household items and more!
URL:https://lookupcenter.org/event/opportunity-store-2/2027-04-06/
LOCATION:The Look Up Center\, 50 O'Bannon Ave\, Newark\, OH\, 43055\, United States
END:VEVENT
BEGIN:VEVENT
DTSTART;TZID=America/New_York:20270413T090000
DTEND;TZID=America/New_York:20270413T120000
DTSTAMP:20260424T194527
CREATED:20210727T142155Z
LAST-MODIFIED:20221111T205340Z
UID:10003685-1807606800-1807617600@lookupcenter.org
SUMMARY:Opportunity Store
DESCRIPTION:Come and shop at the Look Up Center every Tuesday from 9am-noon and 4pm-6pm! We have clothing\, furniture\, appliances\, household items and more!
URL:https://lookupcenter.org/event/opportunity-store/2027-04-13/
LOCATION:The Look Up Center\, 50 O'Bannon Ave\, Newark\, OH\, 43055\, United States
END:VEVENT
BEGIN:VEVENT
DTSTART;TZID=UTC:20270413T160000
DTEND;TZID=UTC:20270413T180000
DTSTAMP:20260424T194527
CREATED:20221111T204531Z
LAST-MODIFIED:20221111T205224Z
UID:10003946-1807632000-1807639200@lookupcenter.org
SUMMARY:Opportunity Store
DESCRIPTION:Come and shop at the Look Up Center every Tuesday from 9am-noon and 4pm-6pm! We have clothing\, furniture\, appliances\, household items and more!
URL:https://lookupcenter.org/event/opportunity-store-2/2027-04-13/
LOCATION:The Look Up Center\, 50 O'Bannon Ave\, Newark\, OH\, 43055\, United States
END:VEVENT
BEGIN:VEVENT
DTSTART;TZID=America/New_York:20270413T171500
DTEND;TZID=America/New_York:20270413T180000
DTSTAMP:20260424T194527
CREATED:20250210T145614Z
LAST-MODIFIED:20250210T145614Z
UID:10005778-1807636500-1807639200@lookupcenter.org
SUMMARY:Licking County Mobile Library
DESCRIPTION:Come visit the Licking County Mobile Library on the 2nd Tuesday of each month here at The Look Up Center!  \nAge Group: Early Learners | Birth-5\, Elementary | Grades K-5\, Teens | Grades 6-12\, Adults
URL:https://lookupcenter.org/event/licking-county-mobile-library/2027-04-13/
LOCATION:The Look Up Center\, 50 O'Bannon Ave\, Newark\, OH\, 43055\, United States
END:VEVENT
BEGIN:VEVENT
DTSTART;TZID=America/New_York:20270420T090000
DTEND;TZID=America/New_York:20270420T120000
DTSTAMP:20260424T194527
CREATED:20210727T142155Z
LAST-MODIFIED:20221111T205340Z
UID:10003686-1808211600-1808222400@lookupcenter.org
SUMMARY:Opportunity Store
DESCRIPTION:Come and shop at the Look Up Center every Tuesday from 9am-noon and 4pm-6pm! We have clothing\, furniture\, appliances\, household items and more!
URL:https://lookupcenter.org/event/opportunity-store/2027-04-20/
LOCATION:The Look Up Center\, 50 O'Bannon Ave\, Newark\, OH\, 43055\, United States
END:VEVENT
BEGIN:VEVENT
DTSTART;TZID=UTC:20270420T160000
DTEND;TZID=UTC:20270420T180000
DTSTAMP:20260424T194527
CREATED:20221111T204531Z
LAST-MODIFIED:20221111T205224Z
UID:10003947-1808236800-1808244000@lookupcenter.org
SUMMARY:Opportunity Store
DESCRIPTION:Come and shop at the Look Up Center every Tuesday from 9am-noon and 4pm-6pm! We have clothing\, furniture\, appliances\, household items and more!
URL:https://lookupcenter.org/event/opportunity-store-2/2027-04-20/
LOCATION:The Look Up Center\, 50 O'Bannon Ave\, Newark\, OH\, 43055\, United States
END:VEVENT
BEGIN:VEVENT
DTSTART;TZID=America/New_York:20270427T090000
DTEND;TZID=America/New_York:20270427T120000
DTSTAMP:20260424T194527
CREATED:20210727T142155Z
LAST-MODIFIED:20221111T205340Z
UID:10003687-1808816400-1808827200@lookupcenter.org
SUMMARY:Opportunity Store
DESCRIPTION:Come and shop at the Look Up Center every Tuesday from 9am-noon and 4pm-6pm! We have clothing\, furniture\, appliances\, household items and more!
URL:https://lookupcenter.org/event/opportunity-store/2027-04-27/
LOCATION:The Look Up Center\, 50 O'Bannon Ave\, Newark\, OH\, 43055\, United States
END:VEVENT
BEGIN:VEVENT
DTSTART;TZID=UTC:20270427T160000
DTEND;TZID=UTC:20270427T180000
DTSTAMP:20260424T194527
CREATED:20221111T204531Z
LAST-MODIFIED:20221111T205224Z
UID:10003948-1808841600-1808848800@lookupcenter.org
SUMMARY:Opportunity Store
DESCRIPTION:Come and shop at the Look Up Center every Tuesday from 9am-noon and 4pm-6pm! We have clothing\, furniture\, appliances\, household items and more!
URL:https://lookupcenter.org/event/opportunity-store-2/2027-04-27/
LOCATION:The Look Up Center\, 50 O'Bannon Ave\, Newark\, OH\, 43055\, United States
END:VEVENT
BEGIN:VEVENT
DTSTART;TZID=America/New_York:20270504T090000
DTEND;TZID=America/New_York:20270504T120000
DTSTAMP:20260424T194527
CREATED:20210727T142155Z
LAST-MODIFIED:20221111T205340Z
UID:10003688-1809421200-1809432000@lookupcenter.org
SUMMARY:Opportunity Store
DESCRIPTION:Come and shop at the Look Up Center every Tuesday from 9am-noon and 4pm-6pm! We have clothing\, furniture\, appliances\, household items and more!
URL:https://lookupcenter.org/event/opportunity-store/2027-05-04/
LOCATION:The Look Up Center\, 50 O'Bannon Ave\, Newark\, OH\, 43055\, United States
END:VEVENT
BEGIN:VEVENT
DTSTART;TZID=UTC:20270504T160000
DTEND;TZID=UTC:20270504T180000
DTSTAMP:20260424T194527
CREATED:20221111T204531Z
LAST-MODIFIED:20221111T205224Z
UID:10003949-1809446400-1809453600@lookupcenter.org
SUMMARY:Opportunity Store
DESCRIPTION:Come and shop at the Look Up Center every Tuesday from 9am-noon and 4pm-6pm! We have clothing\, furniture\, appliances\, household items and more!
URL:https://lookupcenter.org/event/opportunity-store-2/2027-05-04/
LOCATION:The Look Up Center\, 50 O'Bannon Ave\, Newark\, OH\, 43055\, United States
END:VEVENT
BEGIN:VEVENT
DTSTART;TZID=America/New_York:20270511T090000
DTEND;TZID=America/New_York:20270511T120000
DTSTAMP:20260424T194527
CREATED:20210727T142155Z
LAST-MODIFIED:20221111T205340Z
UID:10003689-1810026000-1810036800@lookupcenter.org
SUMMARY:Opportunity Store
DESCRIPTION:Come and shop at the Look Up Center every Tuesday from 9am-noon and 4pm-6pm! We have clothing\, furniture\, appliances\, household items and more!
URL:https://lookupcenter.org/event/opportunity-store/2027-05-11/
LOCATION:The Look Up Center\, 50 O'Bannon Ave\, Newark\, OH\, 43055\, United States
END:VEVENT
BEGIN:VEVENT
DTSTART;TZID=UTC:20270511T160000
DTEND;TZID=UTC:20270511T180000
DTSTAMP:20260424T194527
CREATED:20221111T204531Z
LAST-MODIFIED:20221111T205224Z
UID:10003950-1810051200-1810058400@lookupcenter.org
SUMMARY:Opportunity Store
DESCRIPTION:Come and shop at the Look Up Center every Tuesday from 9am-noon and 4pm-6pm! We have clothing\, furniture\, appliances\, household items and more!
URL:https://lookupcenter.org/event/opportunity-store-2/2027-05-11/
LOCATION:The Look Up Center\, 50 O'Bannon Ave\, Newark\, OH\, 43055\, United States
END:VEVENT
BEGIN:VEVENT
DTSTART;TZID=America/New_York:20270511T171500
DTEND;TZID=America/New_York:20270511T180000
DTSTAMP:20260424T194527
CREATED:20250210T145614Z
LAST-MODIFIED:20250210T145614Z
UID:10005779-1810055700-1810058400@lookupcenter.org
SUMMARY:Licking County Mobile Library
DESCRIPTION:Come visit the Licking County Mobile Library on the 2nd Tuesday of each month here at The Look Up Center!  \nAge Group: Early Learners | Birth-5\, Elementary | Grades K-5\, Teens | Grades 6-12\, Adults
URL:https://lookupcenter.org/event/licking-county-mobile-library/2027-05-11/
LOCATION:The Look Up Center\, 50 O'Bannon Ave\, Newark\, OH\, 43055\, United States
END:VEVENT
BEGIN:VEVENT
DTSTART;TZID=America/New_York:20270518T090000
DTEND;TZID=America/New_York:20270518T120000
DTSTAMP:20260424T194527
CREATED:20210727T142155Z
LAST-MODIFIED:20221111T205340Z
UID:10003690-1810630800-1810641600@lookupcenter.org
SUMMARY:Opportunity Store
DESCRIPTION:Come and shop at the Look Up Center every Tuesday from 9am-noon and 4pm-6pm! We have clothing\, furniture\, appliances\, household items and more!
URL:https://lookupcenter.org/event/opportunity-store/2027-05-18/
LOCATION:The Look Up Center\, 50 O'Bannon Ave\, Newark\, OH\, 43055\, United States
END:VEVENT
BEGIN:VEVENT
DTSTART;TZID=UTC:20270518T160000
DTEND;TZID=UTC:20270518T180000
DTSTAMP:20260424T194527
CREATED:20221111T204531Z
LAST-MODIFIED:20221111T205224Z
UID:10003951-1810656000-1810663200@lookupcenter.org
SUMMARY:Opportunity Store
DESCRIPTION:Come and shop at the Look Up Center every Tuesday from 9am-noon and 4pm-6pm! We have clothing\, furniture\, appliances\, household items and more!
URL:https://lookupcenter.org/event/opportunity-store-2/2027-05-18/
LOCATION:The Look Up Center\, 50 O'Bannon Ave\, Newark\, OH\, 43055\, United States
END:VEVENT
BEGIN:VEVENT
DTSTART;TZID=America/New_York:20270525T090000
DTEND;TZID=America/New_York:20270525T120000
DTSTAMP:20260424T194527
CREATED:20210727T142155Z
LAST-MODIFIED:20221111T205340Z
UID:10003691-1811235600-1811246400@lookupcenter.org
SUMMARY:Opportunity Store
DESCRIPTION:Come and shop at the Look Up Center every Tuesday from 9am-noon and 4pm-6pm! We have clothing\, furniture\, appliances\, household items and more!
URL:https://lookupcenter.org/event/opportunity-store/2027-05-25/
LOCATION:The Look Up Center\, 50 O'Bannon Ave\, Newark\, OH\, 43055\, United States
END:VEVENT
BEGIN:VEVENT
DTSTART;TZID=UTC:20270525T160000
DTEND;TZID=UTC:20270525T180000
DTSTAMP:20260424T194527
CREATED:20221111T204531Z
LAST-MODIFIED:20221111T205224Z
UID:10003952-1811260800-1811268000@lookupcenter.org
SUMMARY:Opportunity Store
DESCRIPTION:Come and shop at the Look Up Center every Tuesday from 9am-noon and 4pm-6pm! We have clothing\, furniture\, appliances\, household items and more!
URL:https://lookupcenter.org/event/opportunity-store-2/2027-05-25/
LOCATION:The Look Up Center\, 50 O'Bannon Ave\, Newark\, OH\, 43055\, United States
END:VEVENT
BEGIN:VEVENT
DTSTART;TZID=America/New_York:20270601T090000
DTEND;TZID=America/New_York:20270601T120000
DTSTAMP:20260424T194527
CREATED:20210727T142155Z
LAST-MODIFIED:20221111T205340Z
UID:10003692-1811840400-1811851200@lookupcenter.org
SUMMARY:Opportunity Store
DESCRIPTION:Come and shop at the Look Up Center every Tuesday from 9am-noon and 4pm-6pm! We have clothing\, furniture\, appliances\, household items and more!
URL:https://lookupcenter.org/event/opportunity-store/2027-06-01/
LOCATION:The Look Up Center\, 50 O'Bannon Ave\, Newark\, OH\, 43055\, United States
END:VEVENT
BEGIN:VEVENT
DTSTART;TZID=UTC:20270601T160000
DTEND;TZID=UTC:20270601T180000
DTSTAMP:20260424T194527
CREATED:20221111T204531Z
LAST-MODIFIED:20221111T205224Z
UID:10003953-1811865600-1811872800@lookupcenter.org
SUMMARY:Opportunity Store
DESCRIPTION:Come and shop at the Look Up Center every Tuesday from 9am-noon and 4pm-6pm! We have clothing\, furniture\, appliances\, household items and more!
URL:https://lookupcenter.org/event/opportunity-store-2/2027-06-01/
LOCATION:The Look Up Center\, 50 O'Bannon Ave\, Newark\, OH\, 43055\, United States
END:VEVENT
BEGIN:VEVENT
DTSTART;TZID=America/New_York:20270608T090000
DTEND;TZID=America/New_York:20270608T120000
DTSTAMP:20260424T194527
CREATED:20210727T142155Z
LAST-MODIFIED:20221111T205340Z
UID:10003693-1812445200-1812456000@lookupcenter.org
SUMMARY:Opportunity Store
DESCRIPTION:Come and shop at the Look Up Center every Tuesday from 9am-noon and 4pm-6pm! We have clothing\, furniture\, appliances\, household items and more!
URL:https://lookupcenter.org/event/opportunity-store/2027-06-08/
LOCATION:The Look Up Center\, 50 O'Bannon Ave\, Newark\, OH\, 43055\, United States
END:VEVENT
BEGIN:VEVENT
DTSTART;TZID=UTC:20270608T160000
DTEND;TZID=UTC:20270608T180000
DTSTAMP:20260424T194527
CREATED:20221111T204531Z
LAST-MODIFIED:20221111T205224Z
UID:10003954-1812470400-1812477600@lookupcenter.org
SUMMARY:Opportunity Store
DESCRIPTION:Come and shop at the Look Up Center every Tuesday from 9am-noon and 4pm-6pm! We have clothing\, furniture\, appliances\, household items and more!
URL:https://lookupcenter.org/event/opportunity-store-2/2027-06-08/
LOCATION:The Look Up Center\, 50 O'Bannon Ave\, Newark\, OH\, 43055\, United States
END:VEVENT
BEGIN:VEVENT
DTSTART;TZID=America/New_York:20270608T171500
DTEND;TZID=America/New_York:20270608T180000
DTSTAMP:20260424T194527
CREATED:20250210T145614Z
LAST-MODIFIED:20250210T145614Z
UID:10005780-1812474900-1812477600@lookupcenter.org
SUMMARY:Licking County Mobile Library
DESCRIPTION:Come visit the Licking County Mobile Library on the 2nd Tuesday of each month here at The Look Up Center!  \nAge Group: Early Learners | Birth-5\, Elementary | Grades K-5\, Teens | Grades 6-12\, Adults
URL:https://lookupcenter.org/event/licking-county-mobile-library/2027-06-08/
LOCATION:The Look Up Center\, 50 O'Bannon Ave\, Newark\, OH\, 43055\, United States
END:VEVENT
BEGIN:VEVENT
DTSTART;TZID=America/New_York:20270615T090000
DTEND;TZID=America/New_York:20270615T120000
DTSTAMP:20260424T194527
CREATED:20210727T142155Z
LAST-MODIFIED:20221111T205340Z
UID:10003694-1813050000-1813060800@lookupcenter.org
SUMMARY:Opportunity Store
DESCRIPTION:Come and shop at the Look Up Center every Tuesday from 9am-noon and 4pm-6pm! We have clothing\, furniture\, appliances\, household items and more!
URL:https://lookupcenter.org/event/opportunity-store/2027-06-15/
LOCATION:The Look Up Center\, 50 O'Bannon Ave\, Newark\, OH\, 43055\, United States
END:VEVENT
BEGIN:VEVENT
DTSTART;TZID=UTC:20270615T160000
DTEND;TZID=UTC:20270615T180000
DTSTAMP:20260424T194527
CREATED:20221111T204531Z
LAST-MODIFIED:20221111T205224Z
UID:10003955-1813075200-1813082400@lookupcenter.org
SUMMARY:Opportunity Store
DESCRIPTION:Come and shop at the Look Up Center every Tuesday from 9am-noon and 4pm-6pm! We have clothing\, furniture\, appliances\, household items and more!
URL:https://lookupcenter.org/event/opportunity-store-2/2027-06-15/
LOCATION:The Look Up Center\, 50 O'Bannon Ave\, Newark\, OH\, 43055\, United States
END:VEVENT
BEGIN:VEVENT
DTSTART;TZID=America/New_York:20270713T171500
DTEND;TZID=America/New_York:20270713T180000
DTSTAMP:20260424T194527
CREATED:20250210T145614Z
LAST-MODIFIED:20250210T145614Z
UID:10005781-1815498900-1815501600@lookupcenter.org
SUMMARY:Licking County Mobile Library
DESCRIPTION:Come visit the Licking County Mobile Library on the 2nd Tuesday of each month here at The Look Up Center!  \nAge Group: Early Learners | Birth-5\, Elementary | Grades K-5\, Teens | Grades 6-12\, Adults
URL:https://lookupcenter.org/event/licking-county-mobile-library/2027-07-13/
LOCATION:The Look Up Center\, 50 O'Bannon Ave\, Newark\, OH\, 43055\, United States
END:VEVENT
BEGIN:VEVENT
DTSTART;TZID=America/New_York:20270810T171500
DTEND;TZID=America/New_York:20270810T180000
DTSTAMP:20260424T194527
CREATED:20250210T145614Z
LAST-MODIFIED:20250210T145614Z
UID:10005782-1817918100-1817920800@lookupcenter.org
SUMMARY:Licking County Mobile Library
DESCRIPTION:Come visit the Licking County Mobile Library on the 2nd Tuesday of each month here at The Look Up Center!  \nAge Group: Early Learners | Birth-5\, Elementary | Grades K-5\, Teens | Grades 6-12\, Adults
URL:https://lookupcenter.org/event/licking-county-mobile-library/2027-08-10/
LOCATION:The Look Up Center\, 50 O'Bannon Ave\, Newark\, OH\, 43055\, United States
END:VEVENT
BEGIN:VEVENT
DTSTART;TZID=America/New_York:20270914T171500
DTEND;TZID=America/New_York:20270914T180000
DTSTAMP:20260424T194527
CREATED:20250210T145614Z
LAST-MODIFIED:20250210T145614Z
UID:10005783-1820942100-1820944800@lookupcenter.org
SUMMARY:Licking County Mobile Library
DESCRIPTION:Come visit the Licking County Mobile Library on the 2nd Tuesday of each month here at The Look Up Center!  \nAge Group: Early Learners | Birth-5\, Elementary | Grades K-5\, Teens | Grades 6-12\, Adults
URL:https://lookupcenter.org/event/licking-county-mobile-library/2027-09-14/
LOCATION:The Look Up Center\, 50 O'Bannon Ave\, Newark\, OH\, 43055\, United States
END:VEVENT
END:VCALENDAR