BEGIN:VCALENDAR
VERSION:2.0
PRODID:-//Look Up Center - ECPv6.11.0.1//NONSGML v1.0//EN
CALSCALE:GREGORIAN
METHOD:PUBLISH
X-WR-CALNAME:Look Up Center
X-ORIGINAL-URL:https://lookupcenter.org
X-WR-CALDESC:Events for Look Up Center
REFRESH-INTERVAL;VALUE=DURATION:PT1H
X-Robots-Tag:noindex
X-PUBLISHED-TTL:PT1H
BEGIN:VTIMEZONE
TZID:America/New_York
BEGIN:DAYLIGHT
TZOFFSETFROM:-0500
TZOFFSETTO:-0400
TZNAME:EDT
DTSTART:20270314T070000
END:DAYLIGHT
BEGIN:STANDARD
TZOFFSETFROM:-0400
TZOFFSETTO:-0500
TZNAME:EST
DTSTART:20271107T060000
END:STANDARD
BEGIN:DAYLIGHT
TZOFFSETFROM:-0500
TZOFFSETTO:-0400
TZNAME:EDT
DTSTART:20280312T070000
END:DAYLIGHT
BEGIN:STANDARD
TZOFFSETFROM:-0400
TZOFFSETTO:-0500
TZNAME:EST
DTSTART:20281105T060000
END:STANDARD
BEGIN:DAYLIGHT
TZOFFSETFROM:-0500
TZOFFSETTO:-0400
TZNAME:EDT
DTSTART:20290311T070000
END:DAYLIGHT
BEGIN:STANDARD
TZOFFSETFROM:-0400
TZOFFSETTO:-0500
TZNAME:EST
DTSTART:20291104T060000
END:STANDARD
END:VTIMEZONE
BEGIN:VTIMEZONE
TZID:UTC
BEGIN:STANDARD
TZOFFSETFROM:+0000
TZOFFSETTO:+0000
TZNAME:UTC
DTSTART:20270101T000000
END:STANDARD
END:VTIMEZONE
BEGIN:VEVENT
DTSTART;TZID=America/New_York:20270601T090000
DTEND;TZID=America/New_York:20270601T120000
DTSTAMP:20260424T230351
CREATED:20210727T142155Z
LAST-MODIFIED:20221111T205340Z
UID:10003692-1811840400-1811851200@lookupcenter.org
SUMMARY:Opportunity Store
DESCRIPTION:Come and shop at the Look Up Center every Tuesday from 9am-noon and 4pm-6pm! We have clothing\, furniture\, appliances\, household items and more!
URL:https://lookupcenter.org/event/opportunity-store/2027-06-01/
LOCATION:The Look Up Center\, 50 O'Bannon Ave\, Newark\, OH\, 43055\, United States
END:VEVENT
BEGIN:VEVENT
DTSTART;TZID=UTC:20270601T160000
DTEND;TZID=UTC:20270601T180000
DTSTAMP:20260424T230351
CREATED:20221111T204531Z
LAST-MODIFIED:20221111T205224Z
UID:10003953-1811865600-1811872800@lookupcenter.org
SUMMARY:Opportunity Store
DESCRIPTION:Come and shop at the Look Up Center every Tuesday from 9am-noon and 4pm-6pm! We have clothing\, furniture\, appliances\, household items and more!
URL:https://lookupcenter.org/event/opportunity-store-2/2027-06-01/
LOCATION:The Look Up Center\, 50 O'Bannon Ave\, Newark\, OH\, 43055\, United States
END:VEVENT
BEGIN:VEVENT
DTSTART;TZID=America/New_York:20270608T090000
DTEND;TZID=America/New_York:20270608T120000
DTSTAMP:20260424T230351
CREATED:20210727T142155Z
LAST-MODIFIED:20221111T205340Z
UID:10003693-1812445200-1812456000@lookupcenter.org
SUMMARY:Opportunity Store
DESCRIPTION:Come and shop at the Look Up Center every Tuesday from 9am-noon and 4pm-6pm! We have clothing\, furniture\, appliances\, household items and more!
URL:https://lookupcenter.org/event/opportunity-store/2027-06-08/
LOCATION:The Look Up Center\, 50 O'Bannon Ave\, Newark\, OH\, 43055\, United States
END:VEVENT
BEGIN:VEVENT
DTSTART;TZID=UTC:20270608T160000
DTEND;TZID=UTC:20270608T180000
DTSTAMP:20260424T230351
CREATED:20221111T204531Z
LAST-MODIFIED:20221111T205224Z
UID:10003954-1812470400-1812477600@lookupcenter.org
SUMMARY:Opportunity Store
DESCRIPTION:Come and shop at the Look Up Center every Tuesday from 9am-noon and 4pm-6pm! We have clothing\, furniture\, appliances\, household items and more!
URL:https://lookupcenter.org/event/opportunity-store-2/2027-06-08/
LOCATION:The Look Up Center\, 50 O'Bannon Ave\, Newark\, OH\, 43055\, United States
END:VEVENT
BEGIN:VEVENT
DTSTART;TZID=America/New_York:20270608T171500
DTEND;TZID=America/New_York:20270608T180000
DTSTAMP:20260424T230351
CREATED:20250210T145614Z
LAST-MODIFIED:20250210T145614Z
UID:10005780-1812474900-1812477600@lookupcenter.org
SUMMARY:Licking County Mobile Library
DESCRIPTION:Come visit the Licking County Mobile Library on the 2nd Tuesday of each month here at The Look Up Center!  \nAge Group: Early Learners | Birth-5\, Elementary | Grades K-5\, Teens | Grades 6-12\, Adults
URL:https://lookupcenter.org/event/licking-county-mobile-library/2027-06-08/
LOCATION:The Look Up Center\, 50 O'Bannon Ave\, Newark\, OH\, 43055\, United States
END:VEVENT
BEGIN:VEVENT
DTSTART;TZID=America/New_York:20270615T090000
DTEND;TZID=America/New_York:20270615T120000
DTSTAMP:20260424T230351
CREATED:20210727T142155Z
LAST-MODIFIED:20221111T205340Z
UID:10003694-1813050000-1813060800@lookupcenter.org
SUMMARY:Opportunity Store
DESCRIPTION:Come and shop at the Look Up Center every Tuesday from 9am-noon and 4pm-6pm! We have clothing\, furniture\, appliances\, household items and more!
URL:https://lookupcenter.org/event/opportunity-store/2027-06-15/
LOCATION:The Look Up Center\, 50 O'Bannon Ave\, Newark\, OH\, 43055\, United States
END:VEVENT
BEGIN:VEVENT
DTSTART;TZID=UTC:20270615T160000
DTEND;TZID=UTC:20270615T180000
DTSTAMP:20260424T230351
CREATED:20221111T204531Z
LAST-MODIFIED:20221111T205224Z
UID:10003955-1813075200-1813082400@lookupcenter.org
SUMMARY:Opportunity Store
DESCRIPTION:Come and shop at the Look Up Center every Tuesday from 9am-noon and 4pm-6pm! We have clothing\, furniture\, appliances\, household items and more!
URL:https://lookupcenter.org/event/opportunity-store-2/2027-06-15/
LOCATION:The Look Up Center\, 50 O'Bannon Ave\, Newark\, OH\, 43055\, United States
END:VEVENT
BEGIN:VEVENT
DTSTART;TZID=America/New_York:20270713T171500
DTEND;TZID=America/New_York:20270713T180000
DTSTAMP:20260424T230351
CREATED:20250210T145614Z
LAST-MODIFIED:20250210T145614Z
UID:10005781-1815498900-1815501600@lookupcenter.org
SUMMARY:Licking County Mobile Library
DESCRIPTION:Come visit the Licking County Mobile Library on the 2nd Tuesday of each month here at The Look Up Center!  \nAge Group: Early Learners | Birth-5\, Elementary | Grades K-5\, Teens | Grades 6-12\, Adults
URL:https://lookupcenter.org/event/licking-county-mobile-library/2027-07-13/
LOCATION:The Look Up Center\, 50 O'Bannon Ave\, Newark\, OH\, 43055\, United States
END:VEVENT
BEGIN:VEVENT
DTSTART;TZID=America/New_York:20270810T171500
DTEND;TZID=America/New_York:20270810T180000
DTSTAMP:20260424T230351
CREATED:20250210T145614Z
LAST-MODIFIED:20250210T145614Z
UID:10005782-1817918100-1817920800@lookupcenter.org
SUMMARY:Licking County Mobile Library
DESCRIPTION:Come visit the Licking County Mobile Library on the 2nd Tuesday of each month here at The Look Up Center!  \nAge Group: Early Learners | Birth-5\, Elementary | Grades K-5\, Teens | Grades 6-12\, Adults
URL:https://lookupcenter.org/event/licking-county-mobile-library/2027-08-10/
LOCATION:The Look Up Center\, 50 O'Bannon Ave\, Newark\, OH\, 43055\, United States
END:VEVENT
BEGIN:VEVENT
DTSTART;TZID=America/New_York:20270914T171500
DTEND;TZID=America/New_York:20270914T180000
DTSTAMP:20260424T230351
CREATED:20250210T145614Z
LAST-MODIFIED:20250210T145614Z
UID:10005783-1820942100-1820944800@lookupcenter.org
SUMMARY:Licking County Mobile Library
DESCRIPTION:Come visit the Licking County Mobile Library on the 2nd Tuesday of each month here at The Look Up Center!  \nAge Group: Early Learners | Birth-5\, Elementary | Grades K-5\, Teens | Grades 6-12\, Adults
URL:https://lookupcenter.org/event/licking-county-mobile-library/2027-09-14/
LOCATION:The Look Up Center\, 50 O'Bannon Ave\, Newark\, OH\, 43055\, United States
END:VEVENT
BEGIN:VEVENT
DTSTART;TZID=America/New_York:20271012T171500
DTEND;TZID=America/New_York:20271012T180000
DTSTAMP:20260424T230351
CREATED:20250210T145614Z
LAST-MODIFIED:20250210T145614Z
UID:10005784-1823361300-1823364000@lookupcenter.org
SUMMARY:Licking County Mobile Library
DESCRIPTION:Come visit the Licking County Mobile Library on the 2nd Tuesday of each month here at The Look Up Center!  \nAge Group: Early Learners | Birth-5\, Elementary | Grades K-5\, Teens | Grades 6-12\, Adults
URL:https://lookupcenter.org/event/licking-county-mobile-library/2027-10-12/
LOCATION:The Look Up Center\, 50 O'Bannon Ave\, Newark\, OH\, 43055\, United States
END:VEVENT
BEGIN:VEVENT
DTSTART;TZID=America/New_York:20271109T171500
DTEND;TZID=America/New_York:20271109T180000
DTSTAMP:20260424T230351
CREATED:20250210T145614Z
LAST-MODIFIED:20250210T145614Z
UID:10005785-1825780500-1825783200@lookupcenter.org
SUMMARY:Licking County Mobile Library
DESCRIPTION:Come visit the Licking County Mobile Library on the 2nd Tuesday of each month here at The Look Up Center!  \nAge Group: Early Learners | Birth-5\, Elementary | Grades K-5\, Teens | Grades 6-12\, Adults
URL:https://lookupcenter.org/event/licking-county-mobile-library/2027-11-09/
LOCATION:The Look Up Center\, 50 O'Bannon Ave\, Newark\, OH\, 43055\, United States
END:VEVENT
BEGIN:VEVENT
DTSTART;TZID=America/New_York:20271214T171500
DTEND;TZID=America/New_York:20271214T180000
DTSTAMP:20260424T230351
CREATED:20250210T145614Z
LAST-MODIFIED:20250210T145614Z
UID:10005786-1828804500-1828807200@lookupcenter.org
SUMMARY:Licking County Mobile Library
DESCRIPTION:Come visit the Licking County Mobile Library on the 2nd Tuesday of each month here at The Look Up Center!  \nAge Group: Early Learners | Birth-5\, Elementary | Grades K-5\, Teens | Grades 6-12\, Adults
URL:https://lookupcenter.org/event/licking-county-mobile-library/2027-12-14/
LOCATION:The Look Up Center\, 50 O'Bannon Ave\, Newark\, OH\, 43055\, United States
END:VEVENT
BEGIN:VEVENT
DTSTART;TZID=America/New_York:20280111T171500
DTEND;TZID=America/New_York:20280111T180000
DTSTAMP:20260424T230351
CREATED:20250210T145614Z
LAST-MODIFIED:20250210T145614Z
UID:10005787-1831223700-1831226400@lookupcenter.org
SUMMARY:Licking County Mobile Library
DESCRIPTION:Come visit the Licking County Mobile Library on the 2nd Tuesday of each month here at The Look Up Center!  \nAge Group: Early Learners | Birth-5\, Elementary | Grades K-5\, Teens | Grades 6-12\, Adults
URL:https://lookupcenter.org/event/licking-county-mobile-library/2028-01-11/
LOCATION:The Look Up Center\, 50 O'Bannon Ave\, Newark\, OH\, 43055\, United States
END:VEVENT
BEGIN:VEVENT
DTSTART;TZID=America/New_York:20280208T171500
DTEND;TZID=America/New_York:20280208T180000
DTSTAMP:20260424T230352
CREATED:20250210T145614Z
LAST-MODIFIED:20250210T145614Z
UID:10005788-1833642900-1833645600@lookupcenter.org
SUMMARY:Licking County Mobile Library
DESCRIPTION:Come visit the Licking County Mobile Library on the 2nd Tuesday of each month here at The Look Up Center!  \nAge Group: Early Learners | Birth-5\, Elementary | Grades K-5\, Teens | Grades 6-12\, Adults
URL:https://lookupcenter.org/event/licking-county-mobile-library/2028-02-08/
LOCATION:The Look Up Center\, 50 O'Bannon Ave\, Newark\, OH\, 43055\, United States
END:VEVENT
BEGIN:VEVENT
DTSTART;TZID=America/New_York:20280314T171500
DTEND;TZID=America/New_York:20280314T180000
DTSTAMP:20260424T230352
CREATED:20250210T145614Z
LAST-MODIFIED:20250210T145614Z
UID:10005789-1836666900-1836669600@lookupcenter.org
SUMMARY:Licking County Mobile Library
DESCRIPTION:Come visit the Licking County Mobile Library on the 2nd Tuesday of each month here at The Look Up Center!  \nAge Group: Early Learners | Birth-5\, Elementary | Grades K-5\, Teens | Grades 6-12\, Adults
URL:https://lookupcenter.org/event/licking-county-mobile-library/2028-03-14/
LOCATION:The Look Up Center\, 50 O'Bannon Ave\, Newark\, OH\, 43055\, United States
END:VEVENT
BEGIN:VEVENT
DTSTART;TZID=America/New_York:20280411T171500
DTEND;TZID=America/New_York:20280411T180000
DTSTAMP:20260424T230352
CREATED:20250210T145614Z
LAST-MODIFIED:20250210T145614Z
UID:10005790-1839086100-1839088800@lookupcenter.org
SUMMARY:Licking County Mobile Library
DESCRIPTION:Come visit the Licking County Mobile Library on the 2nd Tuesday of each month here at The Look Up Center!  \nAge Group: Early Learners | Birth-5\, Elementary | Grades K-5\, Teens | Grades 6-12\, Adults
URL:https://lookupcenter.org/event/licking-county-mobile-library/2028-04-11/
LOCATION:The Look Up Center\, 50 O'Bannon Ave\, Newark\, OH\, 43055\, United States
END:VEVENT
BEGIN:VEVENT
DTSTART;TZID=America/New_York:20280509T171500
DTEND;TZID=America/New_York:20280509T180000
DTSTAMP:20260424T230352
CREATED:20250210T145614Z
LAST-MODIFIED:20250210T145614Z
UID:10005791-1841505300-1841508000@lookupcenter.org
SUMMARY:Licking County Mobile Library
DESCRIPTION:Come visit the Licking County Mobile Library on the 2nd Tuesday of each month here at The Look Up Center!  \nAge Group: Early Learners | Birth-5\, Elementary | Grades K-5\, Teens | Grades 6-12\, Adults
URL:https://lookupcenter.org/event/licking-county-mobile-library/2028-05-09/
LOCATION:The Look Up Center\, 50 O'Bannon Ave\, Newark\, OH\, 43055\, United States
END:VEVENT
BEGIN:VEVENT
DTSTART;TZID=America/New_York:20280613T171500
DTEND;TZID=America/New_York:20280613T180000
DTSTAMP:20260424T230352
CREATED:20250210T145614Z
LAST-MODIFIED:20250210T145614Z
UID:10005792-1844529300-1844532000@lookupcenter.org
SUMMARY:Licking County Mobile Library
DESCRIPTION:Come visit the Licking County Mobile Library on the 2nd Tuesday of each month here at The Look Up Center!  \nAge Group: Early Learners | Birth-5\, Elementary | Grades K-5\, Teens | Grades 6-12\, Adults
URL:https://lookupcenter.org/event/licking-county-mobile-library/2028-06-13/
LOCATION:The Look Up Center\, 50 O'Bannon Ave\, Newark\, OH\, 43055\, United States
END:VEVENT
BEGIN:VEVENT
DTSTART;TZID=America/New_York:20280711T171500
DTEND;TZID=America/New_York:20280711T180000
DTSTAMP:20260424T230352
CREATED:20250210T145614Z
LAST-MODIFIED:20250210T145614Z
UID:10005793-1846948500-1846951200@lookupcenter.org
SUMMARY:Licking County Mobile Library
DESCRIPTION:Come visit the Licking County Mobile Library on the 2nd Tuesday of each month here at The Look Up Center!  \nAge Group: Early Learners | Birth-5\, Elementary | Grades K-5\, Teens | Grades 6-12\, Adults
URL:https://lookupcenter.org/event/licking-county-mobile-library/2028-07-11/
LOCATION:The Look Up Center\, 50 O'Bannon Ave\, Newark\, OH\, 43055\, United States
END:VEVENT
BEGIN:VEVENT
DTSTART;TZID=America/New_York:20280808T171500
DTEND;TZID=America/New_York:20280808T180000
DTSTAMP:20260424T230352
CREATED:20250210T145614Z
LAST-MODIFIED:20250210T145614Z
UID:10005794-1849367700-1849370400@lookupcenter.org
SUMMARY:Licking County Mobile Library
DESCRIPTION:Come visit the Licking County Mobile Library on the 2nd Tuesday of each month here at The Look Up Center!  \nAge Group: Early Learners | Birth-5\, Elementary | Grades K-5\, Teens | Grades 6-12\, Adults
URL:https://lookupcenter.org/event/licking-county-mobile-library/2028-08-08/
LOCATION:The Look Up Center\, 50 O'Bannon Ave\, Newark\, OH\, 43055\, United States
END:VEVENT
BEGIN:VEVENT
DTSTART;TZID=America/New_York:20280912T171500
DTEND;TZID=America/New_York:20280912T180000
DTSTAMP:20260424T230352
CREATED:20250210T145614Z
LAST-MODIFIED:20250210T145614Z
UID:10005795-1852391700-1852394400@lookupcenter.org
SUMMARY:Licking County Mobile Library
DESCRIPTION:Come visit the Licking County Mobile Library on the 2nd Tuesday of each month here at The Look Up Center!  \nAge Group: Early Learners | Birth-5\, Elementary | Grades K-5\, Teens | Grades 6-12\, Adults
URL:https://lookupcenter.org/event/licking-county-mobile-library/2028-09-12/
LOCATION:The Look Up Center\, 50 O'Bannon Ave\, Newark\, OH\, 43055\, United States
END:VEVENT
BEGIN:VEVENT
DTSTART;TZID=America/New_York:20281010T171500
DTEND;TZID=America/New_York:20281010T180000
DTSTAMP:20260424T230352
CREATED:20250210T145614Z
LAST-MODIFIED:20250210T145614Z
UID:10005796-1854810900-1854813600@lookupcenter.org
SUMMARY:Licking County Mobile Library
DESCRIPTION:Come visit the Licking County Mobile Library on the 2nd Tuesday of each month here at The Look Up Center!  \nAge Group: Early Learners | Birth-5\, Elementary | Grades K-5\, Teens | Grades 6-12\, Adults
URL:https://lookupcenter.org/event/licking-county-mobile-library/2028-10-10/
LOCATION:The Look Up Center\, 50 O'Bannon Ave\, Newark\, OH\, 43055\, United States
END:VEVENT
BEGIN:VEVENT
DTSTART;TZID=America/New_York:20281114T171500
DTEND;TZID=America/New_York:20281114T180000
DTSTAMP:20260424T230352
CREATED:20250210T145614Z
LAST-MODIFIED:20250210T145614Z
UID:10005797-1857834900-1857837600@lookupcenter.org
SUMMARY:Licking County Mobile Library
DESCRIPTION:Come visit the Licking County Mobile Library on the 2nd Tuesday of each month here at The Look Up Center!  \nAge Group: Early Learners | Birth-5\, Elementary | Grades K-5\, Teens | Grades 6-12\, Adults
URL:https://lookupcenter.org/event/licking-county-mobile-library/2028-11-14/
LOCATION:The Look Up Center\, 50 O'Bannon Ave\, Newark\, OH\, 43055\, United States
END:VEVENT
BEGIN:VEVENT
DTSTART;TZID=America/New_York:20281212T171500
DTEND;TZID=America/New_York:20281212T180000
DTSTAMP:20260424T230352
CREATED:20250210T145614Z
LAST-MODIFIED:20250210T145614Z
UID:10005798-1860254100-1860256800@lookupcenter.org
SUMMARY:Licking County Mobile Library
DESCRIPTION:Come visit the Licking County Mobile Library on the 2nd Tuesday of each month here at The Look Up Center!  \nAge Group: Early Learners | Birth-5\, Elementary | Grades K-5\, Teens | Grades 6-12\, Adults
URL:https://lookupcenter.org/event/licking-county-mobile-library/2028-12-12/
LOCATION:The Look Up Center\, 50 O'Bannon Ave\, Newark\, OH\, 43055\, United States
END:VEVENT
BEGIN:VEVENT
DTSTART;TZID=America/New_York:20290109T171500
DTEND;TZID=America/New_York:20290109T180000
DTSTAMP:20260424T230352
CREATED:20250210T145614Z
LAST-MODIFIED:20250210T145614Z
UID:10005799-1862673300-1862676000@lookupcenter.org
SUMMARY:Licking County Mobile Library
DESCRIPTION:Come visit the Licking County Mobile Library on the 2nd Tuesday of each month here at The Look Up Center!  \nAge Group: Early Learners | Birth-5\, Elementary | Grades K-5\, Teens | Grades 6-12\, Adults
URL:https://lookupcenter.org/event/licking-county-mobile-library/2029-01-09/
LOCATION:The Look Up Center\, 50 O'Bannon Ave\, Newark\, OH\, 43055\, United States
END:VEVENT
BEGIN:VEVENT
DTSTART;TZID=America/New_York:20290213T171500
DTEND;TZID=America/New_York:20290213T180000
DTSTAMP:20260424T230352
CREATED:20250210T145614Z
LAST-MODIFIED:20250210T145614Z
UID:10005800-1865697300-1865700000@lookupcenter.org
SUMMARY:Licking County Mobile Library
DESCRIPTION:Come visit the Licking County Mobile Library on the 2nd Tuesday of each month here at The Look Up Center!  \nAge Group: Early Learners | Birth-5\, Elementary | Grades K-5\, Teens | Grades 6-12\, Adults
URL:https://lookupcenter.org/event/licking-county-mobile-library/2029-02-13/
LOCATION:The Look Up Center\, 50 O'Bannon Ave\, Newark\, OH\, 43055\, United States
END:VEVENT
BEGIN:VEVENT
DTSTART;TZID=America/New_York:20290313T171500
DTEND;TZID=America/New_York:20290313T180000
DTSTAMP:20260424T230352
CREATED:20250210T145614Z
LAST-MODIFIED:20250210T145614Z
UID:10005801-1868116500-1868119200@lookupcenter.org
SUMMARY:Licking County Mobile Library
DESCRIPTION:Come visit the Licking County Mobile Library on the 2nd Tuesday of each month here at The Look Up Center!  \nAge Group: Early Learners | Birth-5\, Elementary | Grades K-5\, Teens | Grades 6-12\, Adults
URL:https://lookupcenter.org/event/licking-county-mobile-library/2029-03-13/
LOCATION:The Look Up Center\, 50 O'Bannon Ave\, Newark\, OH\, 43055\, United States
END:VEVENT
BEGIN:VEVENT
DTSTART;TZID=America/New_York:20290410T171500
DTEND;TZID=America/New_York:20290410T180000
DTSTAMP:20260424T230352
CREATED:20250210T145614Z
LAST-MODIFIED:20250210T145614Z
UID:10005802-1870535700-1870538400@lookupcenter.org
SUMMARY:Licking County Mobile Library
DESCRIPTION:Come visit the Licking County Mobile Library on the 2nd Tuesday of each month here at The Look Up Center!  \nAge Group: Early Learners | Birth-5\, Elementary | Grades K-5\, Teens | Grades 6-12\, Adults
URL:https://lookupcenter.org/event/licking-county-mobile-library/2029-04-10/
LOCATION:The Look Up Center\, 50 O'Bannon Ave\, Newark\, OH\, 43055\, United States
END:VEVENT
BEGIN:VEVENT
DTSTART;TZID=America/New_York:20290508T171500
DTEND;TZID=America/New_York:20290508T180000
DTSTAMP:20260424T230352
CREATED:20250210T145614Z
LAST-MODIFIED:20250210T145614Z
UID:10005803-1872954900-1872957600@lookupcenter.org
SUMMARY:Licking County Mobile Library
DESCRIPTION:Come visit the Licking County Mobile Library on the 2nd Tuesday of each month here at The Look Up Center!  \nAge Group: Early Learners | Birth-5\, Elementary | Grades K-5\, Teens | Grades 6-12\, Adults
URL:https://lookupcenter.org/event/licking-county-mobile-library/2029-05-08/
LOCATION:The Look Up Center\, 50 O'Bannon Ave\, Newark\, OH\, 43055\, United States
END:VEVENT
END:VCALENDAR